BEGIN:VCALENDAR
VERSION:2.0
PRODID:-//Spartacus Combatives - ECPv4.1.4//NONSGML v1.0//EN
CALSCALE:GREGORIAN
METHOD:PUBLISH
X-WR-CALNAME:Spartacus Combatives
X-ORIGINAL-URL:https://spartacuscombatives.com
X-WR-CALDESC:Events for Spartacus Combatives
BEGIN:VEVENT
DTSTART;TZID=America/Denver:20160925T080000
DTEND;TZID=America/Denver:20160926T170000
DTSTAMP:20260426T031721
CREATED:20160914T034332
LAST-MODIFIED:20160914T034332
UID:856-1474790400-1474909200@spartacuscombatives.com
SUMMARY:Closed – Security Merchant Firearms Training Certification
DESCRIPTION:
URL:https://spartacuscombatives.com/course/closed-security-merchant-firearms-training-certification-17/
LOCATION:CO\, United States
CATEGORIES:MERCHANT SECURITY FIREARMS CERTIFICATION
ORGANIZER;CN="Peter%20Haug":MAILTO:peter@spartacuscombatives.com
END:VEVENT
END:VCALENDAR