BEGIN:VCALENDAR
VERSION:2.0
PRODID:-//Spartacus Combatives - ECPv4.1.4//NONSGML v1.0//EN
CALSCALE:GREGORIAN
METHOD:PUBLISH
X-WR-CALNAME:Spartacus Combatives
X-ORIGINAL-URL:https://spartacuscombatives.com
X-WR-CALDESC:Events for Spartacus Combatives
BEGIN:VEVENT
DTSTART;VALUE=DATE:20161031
DTEND;VALUE=DATE:20161101
DTSTAMP:20260426T032307
CREATED:20160901
LAST-MODIFIED:20160901
UID:843-1477872000-1478044799@spartacuscombatives.com
SUMMARY:Closed – Security Merchant Firearms Training Certification
DESCRIPTION:
URL:https://spartacuscombatives.com/course/closed-security-merchant-firearms-training-certification-13/
LOCATION:CO\, United States
CATEGORIES:MERCHANT SECURITY FIREARMS CERTIFICATION
ORGANIZER;CN="Peter%20Haug":MAILTO:peter@spartacuscombatives.com
END:VEVENT
END:VCALENDAR